BEGIN:VCALENDAR
VERSION:2.0
PRODID:-//Blessed Sacrament Catholic School - ECPv6.15.20//NONSGML v1.0//EN
CALSCALE:GREGORIAN
METHOD:PUBLISH
X-WR-CALNAME:Blessed Sacrament Catholic School
X-ORIGINAL-URL:https://utbscs.org
X-WR-CALDESC:Events for Blessed Sacrament Catholic School
REFRESH-INTERVAL;VALUE=DURATION:PT1H
X-Robots-Tag:noindex
X-PUBLISHED-TTL:PT1H
BEGIN:VTIMEZONE
TZID:America/Denver
BEGIN:DAYLIGHT
TZOFFSETFROM:-0700
TZOFFSETTO:-0600
TZNAME:MDT
DTSTART:20230312T090000
END:DAYLIGHT
BEGIN:STANDARD
TZOFFSETFROM:-0600
TZOFFSETTO:-0700
TZNAME:MST
DTSTART:20231105T080000
END:STANDARD
BEGIN:DAYLIGHT
TZOFFSETFROM:-0700
TZOFFSETTO:-0600
TZNAME:MDT
DTSTART:20240310T090000
END:DAYLIGHT
BEGIN:STANDARD
TZOFFSETFROM:-0600
TZOFFSETTO:-0700
TZNAME:MST
DTSTART:20241103T080000
END:STANDARD
BEGIN:DAYLIGHT
TZOFFSETFROM:-0700
TZOFFSETTO:-0600
TZNAME:MDT
DTSTART:20250309T090000
END:DAYLIGHT
BEGIN:STANDARD
TZOFFSETFROM:-0600
TZOFFSETTO:-0700
TZNAME:MST
DTSTART:20251102T080000
END:STANDARD
BEGIN:DAYLIGHT
TZOFFSETFROM:-0700
TZOFFSETTO:-0600
TZNAME:MDT
DTSTART:20260308T090000
END:DAYLIGHT
BEGIN:STANDARD
TZOFFSETFROM:-0600
TZOFFSETTO:-0700
TZNAME:MST
DTSTART:20261101T080000
END:STANDARD
END:VTIMEZONE
BEGIN:VEVENT
DTSTART;TZID=America/Denver:20250423T090000
DTEND;TZID=America/Denver:20250423T093000
DTSTAMP:20260423T111328
CREATED:20250313T182826Z
LAST-MODIFIED:20250313T182826Z
UID:215626-1745398800-1745400600@utbscs.org
SUMMARY:Mass
DESCRIPTION:
URL:https://utbscs.org/event/mass-7/
CATEGORIES:School
ATTACH;FMTTYPE=image/png:https://utbscs.org/wp-content/uploads/2024/07/2.png
END:VEVENT
BEGIN:VEVENT
DTSTART;TZID=America/Denver:20250409T090000
DTEND;TZID=America/Denver:20250409T093000
DTSTAMP:20260423T111328
CREATED:20250313T182713Z
LAST-MODIFIED:20250313T182713Z
UID:215624-1744189200-1744191000@utbscs.org
SUMMARY:Mass
DESCRIPTION:
URL:https://utbscs.org/event/mass-6/
CATEGORIES:School
ATTACH;FMTTYPE=image/png:https://utbscs.org/wp-content/uploads/2024/07/2.png
END:VEVENT
BEGIN:VEVENT
DTSTART;TZID=America/Denver:20250326T090000
DTEND;TZID=America/Denver:20250326T093000
DTSTAMP:20260423T111328
CREATED:20250313T182555Z
LAST-MODIFIED:20250313T182555Z
UID:215622-1742979600-1742981400@utbscs.org
SUMMARY:Mass
DESCRIPTION:
URL:https://utbscs.org/event/mass-5/
CATEGORIES:School
ATTACH;FMTTYPE=image/png:https://utbscs.org/wp-content/uploads/2024/07/2.png
END:VEVENT
BEGIN:VEVENT
DTSTART;TZID=America/Denver:20250319T090000
DTEND;TZID=America/Denver:20250319T213000
DTSTAMP:20260423T111328
CREATED:20250313T182459Z
LAST-MODIFIED:20250313T182459Z
UID:215620-1742374800-1742419800@utbscs.org
SUMMARY:Mass
DESCRIPTION:
URL:https://utbscs.org/event/mass-4/
CATEGORIES:School
ATTACH;FMTTYPE=image/png:https://utbscs.org/wp-content/uploads/2024/07/2.png
END:VEVENT
BEGIN:VEVENT
DTSTART;TZID=America/Denver:20241203T190000
DTEND;TZID=America/Denver:20241203T200000
DTSTAMP:20260423T111328
CREATED:20240821T160633Z
LAST-MODIFIED:20241007T191818Z
UID:215423-1733252400-1733256000@utbscs.org
SUMMARY:HSA Meeting
DESCRIPTION:
URL:https://utbscs.org/event/hsa-meeting-8/
CATEGORIES:HSA,School
ATTACH;FMTTYPE=image/jpeg:https://utbscs.org/wp-content/uploads/2024/08/Calendar-Events-4.jpg
END:VEVENT
BEGIN:VEVENT
DTSTART;TZID=America/Denver:20241105T190000
DTEND;TZID=America/Denver:20241105T200000
DTSTAMP:20260423T111328
CREATED:20240821T160502Z
LAST-MODIFIED:20241007T191934Z
UID:215421-1730833200-1730836800@utbscs.org
SUMMARY:HSA Meeting
DESCRIPTION:
URL:https://utbscs.org/event/hsa-meeting-7/
CATEGORIES:HSA,School
ATTACH;FMTTYPE=image/jpeg:https://utbscs.org/wp-content/uploads/2024/08/Calendar-Events-4.jpg
END:VEVENT
BEGIN:VEVENT
DTSTART;TZID=America/Denver:20241029T153000
DTEND;TZID=America/Denver:20241029T161500
DTSTAMP:20260423T111328
CREATED:20240919T180457Z
LAST-MODIFIED:20241007T192021Z
UID:215504-1730215800-1730218500@utbscs.org
SUMMARY:Chess Club
DESCRIPTION:
URL:https://utbscs.org/event/chess-club-6/
CATEGORIES:Extracurricular,School
ATTACH;FMTTYPE=image/jpeg:https://utbscs.org/wp-content/uploads/2024/09/Copy-of-Calendar-Events-6.jpg
END:VEVENT
BEGIN:VEVENT
DTSTART;TZID=America/Denver:20241028T150500
DTEND;TZID=America/Denver:20241028T160500
DTSTAMP:20260423T111328
CREATED:20240919T175500Z
LAST-MODIFIED:20241007T191947Z
UID:215494-1730127900-1730131500@utbscs.org
SUMMARY:Karate
DESCRIPTION:
URL:https://utbscs.org/event/karate-6/
CATEGORIES:Extracurricular,School
ATTACH;FMTTYPE=image/jpeg:https://utbscs.org/wp-content/uploads/2024/09/Copy-of-Calendar-Events-8.jpg
END:VEVENT
BEGIN:VEVENT
DTSTART;VALUE=DATE:20241027
DTEND;VALUE=DATE:20241028
DTSTAMP:20260423T111328
CREATED:20240919T180553Z
LAST-MODIFIED:20240919T180553Z
UID:215506-1729987200-1730073599@utbscs.org
SUMMARY:Trunk or Treat
DESCRIPTION:
URL:https://utbscs.org/event/trunk-or-treat/
CATEGORIES:School
ATTACH;FMTTYPE=image/jpeg:https://utbscs.org/wp-content/uploads/2024/09/Copy-of-Calendar-Events-9.jpg
END:VEVENT
BEGIN:VEVENT
DTSTART;TZID=America/Denver:20241022T153000
DTEND;TZID=America/Denver:20241022T161500
DTSTAMP:20260423T111328
CREATED:20240919T175822Z
LAST-MODIFIED:20241007T192100Z
UID:215502-1729611000-1729613700@utbscs.org
SUMMARY:Chess Club
DESCRIPTION:No cost to join!
URL:https://utbscs.org/event/chess-club-5/
CATEGORIES:Extracurricular,School
ATTACH;FMTTYPE=image/jpeg:https://utbscs.org/wp-content/uploads/2024/09/Copy-of-Calendar-Events-6.jpg
END:VEVENT
BEGIN:VEVENT
DTSTART;VALUE=DATE:20241017
DTEND;VALUE=DATE:20241019
DTSTAMP:20260423T111328
CREATED:20241007T192648Z
LAST-MODIFIED:20241007T193328Z
UID:215524-1729123200-1729295999@utbscs.org
SUMMARY:Parent Teacher Conferences
DESCRIPTION:10/17: \nPre-Kinder 10:00 Dismissal \nPreschool 10:30 Dismissal \nK-8 12:15 Dismissal \n10/18: No school / No EDP
URL:https://utbscs.org/event/parent-teacher-conferences/
CATEGORIES:School
ATTACH;FMTTYPE=image/jpeg:https://utbscs.org/wp-content/uploads/2024/10/Copy-of-Calendar-Events-12.jpg
END:VEVENT
BEGIN:VEVENT
DTSTART;TZID=America/Denver:20241010T080000
DTEND;TZID=America/Denver:20241011T233000
DTSTAMP:20260423T111328
CREATED:20240925T173626Z
LAST-MODIFIED:20241007T192202Z
UID:215517-1728547200-1728689400@utbscs.org
SUMMARY:Fall Break - No School!
DESCRIPTION:No school October 10th-11th. Enjoy your Fall Break!
URL:https://utbscs.org/event/fall-break-no-school/
CATEGORIES:School
ATTACH;FMTTYPE=image/jpeg:https://utbscs.org/wp-content/uploads/2024/09/Copy-of-Calendar-Events-10-1.jpg
END:VEVENT
BEGIN:VEVENT
DTSTART;VALUE=DATE:20241009
DTEND;VALUE=DATE:20241010
DTSTAMP:20260423T111328
CREATED:20240919T172803Z
LAST-MODIFIED:20241007T192118Z
UID:215467-1728432000-1728518399@utbscs.org
SUMMARY:YES DAY
DESCRIPTION:
URL:https://utbscs.org/event/yes-day/
CATEGORIES:HSA,School
ATTACH;FMTTYPE=image/jpeg:https://utbscs.org/wp-content/uploads/2024/09/Copy-of-Calendar-Events-4.jpg
END:VEVENT
BEGIN:VEVENT
DTSTART;TZID=America/Denver:20241008T153000
DTEND;TZID=America/Denver:20241008T161500
DTSTAMP:20260423T111328
CREATED:20240919T175649Z
LAST-MODIFIED:20241007T192132Z
UID:215498-1728401400-1728404100@utbscs.org
SUMMARY:Chess Club
DESCRIPTION:No cost to join!
URL:https://utbscs.org/event/chess-club-3/
CATEGORIES:Extracurricular,School
ATTACH;FMTTYPE=image/jpeg:https://utbscs.org/wp-content/uploads/2024/09/Copy-of-Calendar-Events-6.jpg
END:VEVENT
BEGIN:VEVENT
DTSTART;TZID=America/Denver:20241001T190000
DTEND;TZID=America/Denver:20241001T200000
DTSTAMP:20260423T111328
CREATED:20240821T160408Z
LAST-MODIFIED:20240821T160408Z
UID:215419-1727809200-1727812800@utbscs.org
SUMMARY:HSA Meeting
DESCRIPTION:
URL:https://utbscs.org/event/hsa-meeting-6/
CATEGORIES:HSA,School
ATTACH;FMTTYPE=image/jpeg:https://utbscs.org/wp-content/uploads/2024/08/Calendar-Events-4.jpg
END:VEVENT
BEGIN:VEVENT
DTSTART;TZID=America/Denver:20241001T153000
DTEND;TZID=America/Denver:20241001T161500
DTSTAMP:20260423T111328
CREATED:20240919T173713Z
LAST-MODIFIED:20240919T174254Z
UID:215476-1727796600-1727799300@utbscs.org
SUMMARY:Chess Club
DESCRIPTION:No cost to join!
URL:https://utbscs.org/event/chess-club/
CATEGORIES:Extracurricular,School
ATTACH;FMTTYPE=image/jpeg:https://utbscs.org/wp-content/uploads/2024/09/Copy-of-Calendar-Events-6.jpg
END:VEVENT
BEGIN:VEVENT
DTSTART;TZID=America/Denver:20240926T151000
DTEND;TZID=America/Denver:20240926T164000
DTSTAMP:20260423T111328
CREATED:20240919T154651Z
LAST-MODIFIED:20240919T154651Z
UID:215455-1727363400-1727368800@utbscs.org
SUMMARY:Archaeology Club Meeting
DESCRIPTION:
URL:https://utbscs.org/event/archaeology-club-meeting-4/
CATEGORIES:School
ATTACH;FMTTYPE=image/jpeg:https://utbscs.org/wp-content/uploads/2024/08/Calendar-Events-2.jpg
END:VEVENT
BEGIN:VEVENT
DTSTART;VALUE=DATE:20240925
DTEND;VALUE=DATE:20240926
DTSTAMP:20260423T111328
CREATED:20240919T174513Z
LAST-MODIFIED:20240919T174513Z
UID:215481-1727222400-1727308799@utbscs.org
SUMMARY:All School Mass
DESCRIPTION:Formal Uniform
URL:https://utbscs.org/event/all-school-mass-3/
CATEGORIES:School
ATTACH;FMTTYPE=image/png:https://utbscs.org/wp-content/uploads/2024/07/2.png
END:VEVENT
BEGIN:VEVENT
DTSTART;TZID=America/Denver:20240919T151000
DTEND;TZID=America/Denver:20240919T164000
DTSTAMP:20260423T111328
CREATED:20240919T154510Z
LAST-MODIFIED:20240919T154510Z
UID:215453-1726758600-1726764000@utbscs.org
SUMMARY:Archaeology Club Meeting
DESCRIPTION:
URL:https://utbscs.org/event/archaeology-club-meeting-3/
CATEGORIES:School
ATTACH;FMTTYPE=image/jpeg:https://utbscs.org/wp-content/uploads/2024/08/Calendar-Events-2.jpg
END:VEVENT
BEGIN:VEVENT
DTSTART;TZID=America/Denver:20240918T080000
DTEND;TZID=America/Denver:20240927T140000
DTSTAMP:20260423T111328
CREATED:20240919T170702Z
LAST-MODIFIED:20240919T170702Z
UID:215463-1726646400-1727445600@utbscs.org
SUMMARY:Fundraiser for Catholic Community Services of Ogden
DESCRIPTION:Pre-School: Jam\nPre-Kindergarten: Peanut Butter\nKindergarten: Canned Fruit\n1st Grade: Canned Spaghetti\n2nd Grade: Macaroni and Cheese\n3rd Grade: Canned Vegetables\n4th Grade: Canned Meat\, Soup\, Beans\n5th Grade: Cereal\, Pasta\, Rice (grains)\nMiddle School: Hamburger Helper (or equivalent)
URL:https://utbscs.org/event/fundraiser-for-catholic-community-services-of-ogden/
CATEGORIES:School,Service
ATTACH;FMTTYPE=image/jpeg:https://utbscs.org/wp-content/uploads/2024/09/Copy-of-Calendar-Events-3.jpg
END:VEVENT
BEGIN:VEVENT
DTSTART;VALUE=DATE:20240913
DTEND;VALUE=DATE:20240914
DTSTAMP:20260423T111328
CREATED:20240904T174446Z
LAST-MODIFIED:20240904T174446Z
UID:215443-1726185600-1726271999@utbscs.org
SUMMARY:Professional Educator Day
DESCRIPTION:No School!
URL:https://utbscs.org/event/professional-educator-day/
CATEGORIES:School
ATTACH;FMTTYPE=image/jpeg:https://utbscs.org/wp-content/uploads/2024/09/Calendar-Events-8.jpg
END:VEVENT
BEGIN:VEVENT
DTSTART;TZID=America/Denver:20240912T080000
DTEND;TZID=America/Denver:20240927T170000
DTSTAMP:20260423T111328
CREATED:20240919T165534Z
LAST-MODIFIED:20240919T165534Z
UID:215460-1726128000-1727456400@utbscs.org
SUMMARY:Yes Day Fundraiser
DESCRIPTION:
URL:https://utbscs.org/event/yes-day-fundraiser-2/
CATEGORIES:HSA,School
ATTACH;FMTTYPE=image/jpeg:https://utbscs.org/wp-content/uploads/2024/09/Copy-of-Calendar-Events-1.jpg
END:VEVENT
BEGIN:VEVENT
DTSTART;VALUE=DATE:20240912
DTEND;VALUE=DATE:20240913
DTSTAMP:20260423T111328
CREATED:20240822T154806Z
LAST-MODIFIED:20240822T154806Z
UID:215426-1726099200-1726185599@utbscs.org
SUMMARY:Yes Day Fundraiser Begins
DESCRIPTION:
URL:https://utbscs.org/event/yes-day-fundraiser-begins/
CATEGORIES:HSA,School
ATTACH;FMTTYPE=image/jpeg:https://utbscs.org/wp-content/uploads/2024/08/Calendar-Events-5.jpg
END:VEVENT
BEGIN:VEVENT
DTSTART;VALUE=DATE:20240904
DTEND;VALUE=DATE:20240905
DTSTAMP:20260423T111328
CREATED:20240821T155722Z
LAST-MODIFIED:20240821T155722Z
UID:215411-1725408000-1725494399@utbscs.org
SUMMARY:Mass
DESCRIPTION:Formal Uniform
URL:https://utbscs.org/event/mass-3/
CATEGORIES:School
ATTACH;FMTTYPE=image/png:https://utbscs.org/wp-content/uploads/2024/07/2.png
END:VEVENT
BEGIN:VEVENT
DTSTART;TZID=America/Denver:20240903T190000
DTEND;TZID=America/Denver:20240903T200000
DTSTAMP:20260423T111328
CREATED:20240821T160241Z
LAST-MODIFIED:20240821T160241Z
UID:215416-1725390000-1725393600@utbscs.org
SUMMARY:HSA Meeting
DESCRIPTION:
URL:https://utbscs.org/event/hsa-meeting-5/
CATEGORIES:School
ATTACH;FMTTYPE=image/jpeg:https://utbscs.org/wp-content/uploads/2024/08/Calendar-Events-4.jpg
END:VEVENT
BEGIN:VEVENT
DTSTART;VALUE=DATE:20240902
DTEND;VALUE=DATE:20240903
DTSTAMP:20260423T111328
CREATED:20240821T154905Z
LAST-MODIFIED:20240821T155323Z
UID:215403-1725235200-1725321599@utbscs.org
SUMMARY:Labor Day - NO SCHOOL
DESCRIPTION:School Closed
URL:https://utbscs.org/event/labor-day-no-school/
CATEGORIES:School
ATTACH;FMTTYPE=image/jpeg:https://utbscs.org/wp-content/uploads/2024/08/Calendar-Events-1.jpg
END:VEVENT
BEGIN:VEVENT
DTSTART;VALUE=DATE:20240830
DTEND;VALUE=DATE:20240831
DTSTAMP:20260423T111328
CREATED:20240821T160039Z
LAST-MODIFIED:20240821T160039Z
UID:215413-1724976000-1725062399@utbscs.org
SUMMARY:Earned Non- Uniform Day
DESCRIPTION:
URL:https://utbscs.org/event/earned-non-uniform-day/
CATEGORIES:School
ATTACH;FMTTYPE=image/jpeg:https://utbscs.org/wp-content/uploads/2024/08/Calendar-Events-3.jpg
END:VEVENT
BEGIN:VEVENT
DTSTART;TZID=America/Denver:20240829T031000
DTEND;TZID=America/Denver:20240829T160000
DTSTAMP:20260423T111328
CREATED:20240821T155609Z
LAST-MODIFIED:20240821T155609Z
UID:215409-1724901000-1724947200@utbscs.org
SUMMARY:Archaeology Club Meeting
DESCRIPTION:
URL:https://utbscs.org/event/archaeology-club-meeting-2/
CATEGORIES:Extracurricular,School
ATTACH;FMTTYPE=image/jpeg:https://utbscs.org/wp-content/uploads/2024/08/Calendar-Events-2.jpg
END:VEVENT
BEGIN:VEVENT
DTSTART;VALUE=DATE:20240828
DTEND;VALUE=DATE:20240829
DTSTAMP:20260423T111328
CREATED:20240821T153634Z
LAST-MODIFIED:20240821T153634Z
UID:215401-1724803200-1724889599@utbscs.org
SUMMARY:Mass
DESCRIPTION:
URL:https://utbscs.org/event/mass-2/
CATEGORIES:School
ATTACH;FMTTYPE=image/png:https://utbscs.org/wp-content/uploads/2024/07/2.png
END:VEVENT
BEGIN:VEVENT
DTSTART;VALUE=DATE:20240828
DTEND;VALUE=DATE:20240829
DTSTAMP:20260423T111328
CREATED:20240815T202417Z
LAST-MODIFIED:20240815T203131Z
UID:215390-1724803200-1724889599@utbscs.org
SUMMARY:Picture Day
DESCRIPTION:
URL:https://utbscs.org/event/picture-day-2/
CATEGORIES:School
ATTACH;FMTTYPE=image/jpeg:https://utbscs.org/wp-content/uploads/2024/08/Calendar-Events.jpg
END:VEVENT
END:VCALENDAR