BEGIN:VCALENDAR
VERSION:2.0
PRODID:-//Blessed Sacrament Catholic School - ECPv6.15.20//NONSGML v1.0//EN
CALSCALE:GREGORIAN
METHOD:PUBLISH
X-ORIGINAL-URL:https://utbscs.org
X-WR-CALDESC:Events for Blessed Sacrament Catholic School
REFRESH-INTERVAL;VALUE=DURATION:PT1H
X-Robots-Tag:noindex
X-PUBLISHED-TTL:PT1H
BEGIN:VTIMEZONE
TZID:America/Denver
BEGIN:DAYLIGHT
TZOFFSETFROM:-0700
TZOFFSETTO:-0600
TZNAME:MDT
DTSTART:20220313T090000
END:DAYLIGHT
BEGIN:STANDARD
TZOFFSETFROM:-0600
TZOFFSETTO:-0700
TZNAME:MST
DTSTART:20221106T080000
END:STANDARD
BEGIN:DAYLIGHT
TZOFFSETFROM:-0700
TZOFFSETTO:-0600
TZNAME:MDT
DTSTART:20230312T090000
END:DAYLIGHT
BEGIN:STANDARD
TZOFFSETFROM:-0600
TZOFFSETTO:-0700
TZNAME:MST
DTSTART:20231105T080000
END:STANDARD
BEGIN:DAYLIGHT
TZOFFSETFROM:-0700
TZOFFSETTO:-0600
TZNAME:MDT
DTSTART:20240310T090000
END:DAYLIGHT
BEGIN:STANDARD
TZOFFSETFROM:-0600
TZOFFSETTO:-0700
TZNAME:MST
DTSTART:20241103T080000
END:STANDARD
BEGIN:DAYLIGHT
TZOFFSETFROM:-0700
TZOFFSETTO:-0600
TZNAME:MDT
DTSTART:20250309T090000
END:DAYLIGHT
BEGIN:STANDARD
TZOFFSETFROM:-0600
TZOFFSETTO:-0700
TZNAME:MST
DTSTART:20251102T080000
END:STANDARD
END:VTIMEZONE
BEGIN:VEVENT
DTSTART;VALUE=DATE:20240913
DTEND;VALUE=DATE:20240914
DTSTAMP:20260423T125815
CREATED:20240904T174446Z
LAST-MODIFIED:20240904T174446Z
UID:215443-1726185600-1726271999@utbscs.org
SUMMARY:Professional Educator Day
DESCRIPTION:No School!
URL:https://utbscs.org/event/professional-educator-day/
CATEGORIES:School
ATTACH;FMTTYPE=image/jpeg:https://utbscs.org/wp-content/uploads/2024/09/Calendar-Events-8.jpg
END:VEVENT
BEGIN:VEVENT
DTSTART;TZID=America/Denver:20240912T080000
DTEND;TZID=America/Denver:20240927T170000
DTSTAMP:20260423T125815
CREATED:20240919T165534Z
LAST-MODIFIED:20240919T165534Z
UID:215460-1726128000-1727456400@utbscs.org
SUMMARY:Yes Day Fundraiser
DESCRIPTION:
URL:https://utbscs.org/event/yes-day-fundraiser-2/
CATEGORIES:HSA,School
ATTACH;FMTTYPE=image/jpeg:https://utbscs.org/wp-content/uploads/2024/09/Copy-of-Calendar-Events-1.jpg
END:VEVENT
BEGIN:VEVENT
DTSTART;VALUE=DATE:20240912
DTEND;VALUE=DATE:20240913
DTSTAMP:20260423T125815
CREATED:20240822T154806Z
LAST-MODIFIED:20240822T154806Z
UID:215426-1726099200-1726185599@utbscs.org
SUMMARY:Yes Day Fundraiser Begins
DESCRIPTION:
URL:https://utbscs.org/event/yes-day-fundraiser-begins/
CATEGORIES:HSA,School
ATTACH;FMTTYPE=image/jpeg:https://utbscs.org/wp-content/uploads/2024/08/Calendar-Events-5.jpg
END:VEVENT
BEGIN:VEVENT
DTSTART;VALUE=DATE:20240904
DTEND;VALUE=DATE:20240905
DTSTAMP:20260423T125815
CREATED:20240821T155722Z
LAST-MODIFIED:20240821T155722Z
UID:215411-1725408000-1725494399@utbscs.org
SUMMARY:Mass
DESCRIPTION:Formal Uniform
URL:https://utbscs.org/event/mass-3/
CATEGORIES:School
ATTACH;FMTTYPE=image/png:https://utbscs.org/wp-content/uploads/2024/07/2.png
END:VEVENT
BEGIN:VEVENT
DTSTART;TZID=America/Denver:20240903T190000
DTEND;TZID=America/Denver:20240903T200000
DTSTAMP:20260423T125815
CREATED:20240821T160241Z
LAST-MODIFIED:20240821T160241Z
UID:215416-1725390000-1725393600@utbscs.org
SUMMARY:HSA Meeting
DESCRIPTION:
URL:https://utbscs.org/event/hsa-meeting-5/
CATEGORIES:School
ATTACH;FMTTYPE=image/jpeg:https://utbscs.org/wp-content/uploads/2024/08/Calendar-Events-4.jpg
END:VEVENT
BEGIN:VEVENT
DTSTART;VALUE=DATE:20240902
DTEND;VALUE=DATE:20240903
DTSTAMP:20260423T125815
CREATED:20240821T154905Z
LAST-MODIFIED:20240821T155323Z
UID:215403-1725235200-1725321599@utbscs.org
SUMMARY:Labor Day - NO SCHOOL
DESCRIPTION:School Closed
URL:https://utbscs.org/event/labor-day-no-school/
CATEGORIES:School
ATTACH;FMTTYPE=image/jpeg:https://utbscs.org/wp-content/uploads/2024/08/Calendar-Events-1.jpg
END:VEVENT
BEGIN:VEVENT
DTSTART;VALUE=DATE:20240830
DTEND;VALUE=DATE:20240831
DTSTAMP:20260423T125815
CREATED:20240821T160039Z
LAST-MODIFIED:20240821T160039Z
UID:215413-1724976000-1725062399@utbscs.org
SUMMARY:Earned Non- Uniform Day
DESCRIPTION:
URL:https://utbscs.org/event/earned-non-uniform-day/
CATEGORIES:School
ATTACH;FMTTYPE=image/jpeg:https://utbscs.org/wp-content/uploads/2024/08/Calendar-Events-3.jpg
END:VEVENT
BEGIN:VEVENT
DTSTART;TZID=America/Denver:20240829T031000
DTEND;TZID=America/Denver:20240829T160000
DTSTAMP:20260423T125815
CREATED:20240821T155609Z
LAST-MODIFIED:20240821T155609Z
UID:215409-1724901000-1724947200@utbscs.org
SUMMARY:Archaeology Club Meeting
DESCRIPTION:
URL:https://utbscs.org/event/archaeology-club-meeting-2/
CATEGORIES:Extracurricular,School
ATTACH;FMTTYPE=image/jpeg:https://utbscs.org/wp-content/uploads/2024/08/Calendar-Events-2.jpg
END:VEVENT
BEGIN:VEVENT
DTSTART;VALUE=DATE:20240828
DTEND;VALUE=DATE:20240829
DTSTAMP:20260423T125815
CREATED:20240821T153634Z
LAST-MODIFIED:20240821T153634Z
UID:215401-1724803200-1724889599@utbscs.org
SUMMARY:Mass
DESCRIPTION:
URL:https://utbscs.org/event/mass-2/
CATEGORIES:School
ATTACH;FMTTYPE=image/png:https://utbscs.org/wp-content/uploads/2024/07/2.png
END:VEVENT
BEGIN:VEVENT
DTSTART;VALUE=DATE:20240828
DTEND;VALUE=DATE:20240829
DTSTAMP:20260423T125815
CREATED:20240815T202417Z
LAST-MODIFIED:20240815T203131Z
UID:215390-1724803200-1724889599@utbscs.org
SUMMARY:Picture Day
DESCRIPTION:
URL:https://utbscs.org/event/picture-day-2/
CATEGORIES:School
ATTACH;FMTTYPE=image/jpeg:https://utbscs.org/wp-content/uploads/2024/08/Calendar-Events.jpg
END:VEVENT
BEGIN:VEVENT
DTSTART;TZID=America/Denver:20240821T090000
DTEND;TZID=America/Denver:20240821T093000
DTSTAMP:20260423T125815
CREATED:20240815T202838Z
LAST-MODIFIED:20240815T203050Z
UID:215394-1724230800-1724232600@utbscs.org
SUMMARY:Mass
DESCRIPTION:Wear formal uniform
URL:https://utbscs.org/event/mass/
CATEGORIES:School
ATTACH;FMTTYPE=image/png:https://utbscs.org/wp-content/uploads/2024/07/2.png
END:VEVENT
BEGIN:VEVENT
DTSTART;TZID=America/Denver:20240816T081500
DTEND;TZID=America/Denver:20240816T083000
DTSTAMP:20260423T125815
CREATED:20240718T161959Z
LAST-MODIFIED:20240718T172713Z
UID:215367-1723796100-1723797000@utbscs.org
SUMMARY:First Friday Prayer
DESCRIPTION:
URL:https://utbscs.org/event/first-friday-prayer-7/
CATEGORIES:School
ATTACH;FMTTYPE=image/jpeg:https://utbscs.org/wp-content/uploads/2022/11/Event-prayer-scaled.jpg
END:VEVENT
BEGIN:VEVENT
DTSTART;TZID=America/Denver:20240815T090000
DTEND;TZID=America/Denver:20240815T093000
DTSTAMP:20260423T125815
CREATED:20240718T161015Z
LAST-MODIFIED:20240718T161015Z
UID:215361-1723712400-1723714200@utbscs.org
SUMMARY:School Mass - Assumption of Mary
DESCRIPTION:
URL:https://utbscs.org/event/school-mass-assumption-of-mary/
CATEGORIES:School
ATTACH;FMTTYPE=image/png:https://utbscs.org/wp-content/uploads/2024/07/2.png
END:VEVENT
BEGIN:VEVENT
DTSTART;TZID=America/Denver:20240814T181500
DTEND;TZID=America/Denver:20240814T201500
DTSTAMP:20260423T125815
CREATED:20240718T161437Z
LAST-MODIFIED:20240718T161502Z
UID:215364-1723659300-1723666500@utbscs.org
SUMMARY:Back to School Night - Parents Only
DESCRIPTION:Social at 5:30 PM
URL:https://utbscs.org/event/back-to-school-night-parents-only/
CATEGORIES:School
ATTACH;FMTTYPE=image/png:https://utbscs.org/wp-content/uploads/2024/07/Copy-of-Calendar-Events.png
END:VEVENT
BEGIN:VEVENT
DTSTART;VALUE=DATE:20240812
DTEND;VALUE=DATE:20240813
DTSTAMP:20260423T125815
CREATED:20240718T160518Z
LAST-MODIFIED:20240718T160636Z
UID:215358-1723420800-1723507199@utbscs.org
SUMMARY:First Day of School
DESCRIPTION:
URL:https://utbscs.org/event/first-day-of-school/
CATEGORIES:School
ATTACH;FMTTYPE=image/jpeg:https://utbscs.org/wp-content/uploads/2024/07/Copy-of-Calendar-Events.jpg
END:VEVENT
BEGIN:VEVENT
DTSTART;TZID=America/Denver:20240807T100000
DTEND;TZID=America/Denver:20240807T140000
DTSTAMP:20260423T125815
CREATED:20240718T160104Z
LAST-MODIFIED:20240718T160148Z
UID:215356-1723024800-1723039200@utbscs.org
SUMMARY:School Supply Drop-Off and Used Uniform Sale
DESCRIPTION:
URL:https://utbscs.org/event/school-supply-drop-off-and-used-uniform-sale-2/
CATEGORIES:HSA,School
ATTACH;FMTTYPE=image/png:https://utbscs.org/wp-content/uploads/2024/07/4.png
END:VEVENT
BEGIN:VEVENT
DTSTART;TZID=America/Denver:20240806T180000
DTEND;TZID=America/Denver:20240806T200000
DTSTAMP:20260423T125815
CREATED:20240717T185702Z
LAST-MODIFIED:20240718T155629Z
UID:215343-1722967200-1722974400@utbscs.org
SUMMARY:School Supply Drop-Off and Used Uniform Sale
DESCRIPTION:
URL:https://utbscs.org/event/school-supply-drop-off-and-used-uniform-sale/
CATEGORIES:HSA,School
ATTACH;FMTTYPE=image/png:https://utbscs.org/wp-content/uploads/2024/07/4.png
END:VEVENT
BEGIN:VEVENT
DTSTART;VALUE=DATE:20240223
DTEND;VALUE=DATE:20240224
DTSTAMP:20260423T125815
CREATED:20240221T184510Z
LAST-MODIFIED:20240221T185756Z
UID:215245-1708646400-1708732799@utbscs.org
SUMMARY:Non-Uniform Day
DESCRIPTION:
URL:https://utbscs.org/event/non-uniform-day/
CATEGORIES:School
ATTACH;FMTTYPE=image/jpeg:https://utbscs.org/wp-content/uploads/2022/11/Event-Templateuni-scaled.jpg
END:VEVENT
BEGIN:VEVENT
DTSTART;TZID=America/Denver:20240201T180000
DTEND;TZID=America/Denver:20240201T203000
DTSTAMP:20260423T125815
CREATED:20240103T183654Z
LAST-MODIFIED:20240103T183654Z
UID:215209-1706810400-1706819400@utbscs.org
SUMMARY:Open House
DESCRIPTION:Join us and bring a friend… or a few! Our Open House is a great opportunity to meet with your teacher for next year\, enter giveaways\, and welcome new families.
URL:https://utbscs.org/event/open-house/
CATEGORIES:School
ATTACH;FMTTYPE=image/jpeg:https://utbscs.org/wp-content/uploads/2024/01/Calendar-Events-4.jpg
END:VEVENT
BEGIN:VEVENT
DTSTART;TZID=America/Denver:20240131T090000
DTEND;TZID=America/Denver:20240131T130000
DTSTAMP:20260423T125815
CREATED:20240103T172547Z
LAST-MODIFIED:20240103T172547Z
UID:215197-1706691600-1706706000@utbscs.org
SUMMARY:All School Mass
DESCRIPTION:We welcome parents for all of our students in grades Preschool to Eighth Grades to join us for mass and parent’s eat lunch with their kids to follow at 11:55pm.
URL:https://utbscs.org/event/all-school-mass/
CATEGORIES:Parish,School
ATTACH;FMTTYPE=image/jpeg:https://utbscs.org/wp-content/uploads/2024/01/Calendar-Events.jpg
END:VEVENT
BEGIN:VEVENT
DTSTART;TZID=America/Denver:20240126T180000
DTEND;TZID=America/Denver:20240126T210000
DTSTAMP:20260423T125815
CREATED:20240103T172141Z
LAST-MODIFIED:20240118T063052Z
UID:215195-1706292000-1706302800@utbscs.org
SUMMARY:Spagetti Dinner
DESCRIPTION:Join us to kick off Catholic School’s Week with our annual Spaghetti Dinner and Bingo night. All friends and families are welcome! Adult tickets are $15 and child tickets are $10. Bingo cards will start at $5 with family packages available. Tickets will be available in the Buzz starting January 4th. Buy tickets here.
URL:https://utbscs.org/event/spagetti-dinner/
CATEGORIES:Extracurricular,HSA,School
ATTACH;FMTTYPE=image/jpeg:https://utbscs.org/wp-content/uploads/2022/12/1-1-scaled.jpg
END:VEVENT
BEGIN:VEVENT
DTSTART;VALUE=DATE:20240126
DTEND;VALUE=DATE:20240127
DTSTAMP:20260423T125815
CREATED:20240103T183259Z
LAST-MODIFIED:20240103T183259Z
UID:215206-1706227200-1706313599@utbscs.org
SUMMARY:100 Day
DESCRIPTION:Wow we can’t believe it’s already been one hundred days of school! Classes will have celebrations with this landmark number. Parent’s make sure your student’s projects are turned in by today.
URL:https://utbscs.org/event/100-day/
CATEGORIES:School
ATTACH;FMTTYPE=image/jpeg:https://utbscs.org/wp-content/uploads/2024/01/Calendar-Events-3.jpg
END:VEVENT
BEGIN:VEVENT
DTSTART;TZID=America/Denver:20240125T080000
DTEND;TZID=America/Denver:20240125T120000
DTSTAMP:20260423T125815
CREATED:20240103T183005Z
LAST-MODIFIED:20240103T183005Z
UID:215203-1706169600-1706184000@utbscs.org
SUMMARY:Science Fair
DESCRIPTION:Join our Middle School in the gym at 8am to see the scientific feats they’ve produced with the help of Mr. McHugh1
URL:https://utbscs.org/event/science-fair/
CATEGORIES:School
ATTACH;FMTTYPE=image/jpeg:https://utbscs.org/wp-content/uploads/2024/01/Calendar-Events-2.jpg
END:VEVENT
BEGIN:VEVENT
DTSTART;VALUE=DATE:20240109
DTEND;VALUE=DATE:20240110
DTSTAMP:20260423T125815
CREATED:20240103T163451Z
LAST-MODIFIED:20240103T163451Z
UID:215188-1704758400-1704844799@utbscs.org
SUMMARY:Spirit Shirt Day
DESCRIPTION:
URL:https://utbscs.org/event/spirit-shirt-day/
CATEGORIES:School
ATTACH;FMTTYPE=image/png:https://utbscs.org/wp-content/uploads/2024/01/Calendar-Events-1.png
END:VEVENT
BEGIN:VEVENT
DTSTART;VALUE=DATE:20240105
DTEND;VALUE=DATE:20240106
DTSTAMP:20260423T125815
CREATED:20240103T163325Z
LAST-MODIFIED:20240103T163325Z
UID:215185-1704412800-1704499199@utbscs.org
SUMMARY:EDP Early Closure
DESCRIPTION:Both the Extended Day Program and our school will close at 12:15pm for a staff holiday party.
URL:https://utbscs.org/event/edp-early-closure/
CATEGORIES:Extracurricular,School
ATTACH;FMTTYPE=image/png:https://utbscs.org/wp-content/uploads/2024/01/Calendar-Events.png
END:VEVENT
BEGIN:VEVENT
DTSTART;TZID=America/Denver:20231201T080000
DTEND;TZID=America/Denver:20231201T090000
DTSTAMP:20260423T125815
CREATED:20230825T164623Z
LAST-MODIFIED:20230825T171105Z
UID:214697-1701417600-1701421200@utbscs.org
SUMMARY:First Friday Prayer
DESCRIPTION:Prayer will be held by our students in the gym. As always parents are welcome to join.
URL:https://utbscs.org/event/first-friday-prayer-5/
CATEGORIES:School
ATTACH;FMTTYPE=image/jpeg:https://utbscs.org/wp-content/uploads/2023/03/2.jpg
END:VEVENT
BEGIN:VEVENT
DTSTART;VALUE=DATE:20231110
DTEND;VALUE=DATE:20231111
DTSTAMP:20260423T125815
CREATED:20230825T181753Z
LAST-MODIFIED:20230825T181753Z
UID:214741-1699574400-1699660799@utbscs.org
SUMMARY:No School- Professional Educators Day
DESCRIPTION:
URL:https://utbscs.org/event/no-school-professional-educators-day/
CATEGORIES:School
ATTACH;FMTTYPE=image/jpeg:https://utbscs.org/wp-content/uploads/2023/08/Calendar-Events-3.jpg
END:VEVENT
BEGIN:VEVENT
DTSTART;TZID=America/Denver:20231103T080000
DTEND;TZID=America/Denver:20231103T090000
DTSTAMP:20260423T125815
CREATED:20230825T164536Z
LAST-MODIFIED:20230825T171105Z
UID:214695-1698998400-1699002000@utbscs.org
SUMMARY:First Friday Prayer
DESCRIPTION:Prayer will be held by our students in the gym. As always parents are welcome to join.
URL:https://utbscs.org/event/first-friday-prayer-4/
CATEGORIES:School
ATTACH;FMTTYPE=image/jpeg:https://utbscs.org/wp-content/uploads/2023/03/2.jpg
END:VEVENT
BEGIN:VEVENT
DTSTART;VALUE=DATE:20231020
DTEND;VALUE=DATE:20231021
DTSTAMP:20260423T125815
CREATED:20230825T181633Z
LAST-MODIFIED:20230825T181633Z
UID:214739-1697760000-1697846399@utbscs.org
SUMMARY:No School- Parent Teacher Conferences
DESCRIPTION:
URL:https://utbscs.org/event/no-school-parent-teacher-conferences/
CATEGORIES:School
ATTACH;FMTTYPE=image/jpeg:https://utbscs.org/wp-content/uploads/2023/08/Calendar-Events-3.jpg
END:VEVENT
BEGIN:VEVENT
DTSTART;VALUE=DATE:20231013
DTEND;VALUE=DATE:20231014
DTSTAMP:20260423T125815
CREATED:20230825T181542Z
LAST-MODIFIED:20230825T181542Z
UID:214737-1697155200-1697241599@utbscs.org
SUMMARY:No School- Fall Break
DESCRIPTION:
URL:https://utbscs.org/event/no-school-fall-break/
CATEGORIES:School
ATTACH;FMTTYPE=image/jpeg:https://utbscs.org/wp-content/uploads/2023/08/Calendar-Events-3.jpg
END:VEVENT
END:VCALENDAR