BEGIN:VCALENDAR
VERSION:2.0
PRODID:-//Blessed Sacrament Catholic School - ECPv6.15.20//NONSGML v1.0//EN
CALSCALE:GREGORIAN
METHOD:PUBLISH
X-ORIGINAL-URL:https://utbscs.org
X-WR-CALDESC:Events for Blessed Sacrament Catholic School
REFRESH-INTERVAL;VALUE=DURATION:PT1H
X-Robots-Tag:noindex
X-PUBLISHED-TTL:PT1H
BEGIN:VTIMEZONE
TZID:America/Denver
BEGIN:DAYLIGHT
TZOFFSETFROM:-0700
TZOFFSETTO:-0600
TZNAME:MDT
DTSTART:20220313T090000
END:DAYLIGHT
BEGIN:STANDARD
TZOFFSETFROM:-0600
TZOFFSETTO:-0700
TZNAME:MST
DTSTART:20221106T080000
END:STANDARD
BEGIN:DAYLIGHT
TZOFFSETFROM:-0700
TZOFFSETTO:-0600
TZNAME:MDT
DTSTART:20230312T090000
END:DAYLIGHT
BEGIN:STANDARD
TZOFFSETFROM:-0600
TZOFFSETTO:-0700
TZNAME:MST
DTSTART:20231105T080000
END:STANDARD
BEGIN:DAYLIGHT
TZOFFSETFROM:-0700
TZOFFSETTO:-0600
TZNAME:MDT
DTSTART:20240310T090000
END:DAYLIGHT
BEGIN:STANDARD
TZOFFSETFROM:-0600
TZOFFSETTO:-0700
TZNAME:MST
DTSTART:20241103T080000
END:STANDARD
BEGIN:DAYLIGHT
TZOFFSETFROM:-0700
TZOFFSETTO:-0600
TZNAME:MDT
DTSTART:20250309T090000
END:DAYLIGHT
BEGIN:STANDARD
TZOFFSETFROM:-0600
TZOFFSETTO:-0700
TZNAME:MST
DTSTART:20251102T080000
END:STANDARD
END:VTIMEZONE
BEGIN:VEVENT
DTSTART;TZID=America/Denver:20240924T153000
DTEND;TZID=America/Denver:20240924T161500
DTSTAMP:20260423T175516
CREATED:20240919T173619Z
LAST-MODIFIED:20240919T174332Z
UID:215473-1727191800-1727194500@utbscs.org
SUMMARY:Chess Club with Mr. Penn
DESCRIPTION:No cost to join!
URL:https://utbscs.org/event/chess-club-with-mr-penn/
CATEGORIES:Extracurricular
ATTACH;FMTTYPE=image/jpeg:https://utbscs.org/wp-content/uploads/2024/09/Copy-of-Calendar-Events-6.jpg
END:VEVENT
BEGIN:VEVENT
DTSTART;TZID=America/Denver:20240923T150500
DTEND;TZID=America/Denver:20240923T160500
DTSTAMP:20260423T175516
CREATED:20240919T175110Z
LAST-MODIFIED:20240919T175110Z
UID:215483-1727103900-1727107500@utbscs.org
SUMMARY:Karate
DESCRIPTION:
URL:https://utbscs.org/event/karate/
CATEGORIES:Extracurricular
ATTACH;FMTTYPE=image/jpeg:https://utbscs.org/wp-content/uploads/2024/09/Copy-of-Calendar-Events-8.jpg
END:VEVENT
BEGIN:VEVENT
DTSTART;TZID=America/Denver:20240829T031000
DTEND;TZID=America/Denver:20240829T160000
DTSTAMP:20260423T175516
CREATED:20240821T155609Z
LAST-MODIFIED:20240821T155609Z
UID:215409-1724901000-1724947200@utbscs.org
SUMMARY:Archaeology Club Meeting
DESCRIPTION:
URL:https://utbscs.org/event/archaeology-club-meeting-2/
CATEGORIES:Extracurricular,School
ATTACH;FMTTYPE=image/jpeg:https://utbscs.org/wp-content/uploads/2024/08/Calendar-Events-2.jpg
END:VEVENT
BEGIN:VEVENT
DTSTART;TZID=America/Denver:20240822T151000
DTEND;TZID=America/Denver:20240822T160000
DTSTAMP:20260423T175516
CREATED:20240821T155520Z
LAST-MODIFIED:20240821T155520Z
UID:215406-1724339400-1724342400@utbscs.org
SUMMARY:Archaeology Club Meeting
DESCRIPTION:
URL:https://utbscs.org/event/archaeology-club-meeting/
CATEGORIES:Extracurricular
ATTACH;FMTTYPE=image/jpeg:https://utbscs.org/wp-content/uploads/2024/08/Calendar-Events-2.jpg
END:VEVENT
BEGIN:VEVENT
DTSTART;TZID=America/Denver:20240316T080000
DTEND;TZID=America/Denver:20240316T113000
DTSTAMP:20260423T175516
CREATED:20240221T185135Z
LAST-MODIFIED:20240221T185841Z
UID:215249-1710576000-1710588600@utbscs.org
SUMMARY:St. Patrick's Day Parade
DESCRIPTION:
URL:https://utbscs.org/event/st-patricks-day-parade/
CATEGORIES:Extracurricular
ATTACH;FMTTYPE=image/png:https://utbscs.org/wp-content/uploads/2024/02/Calendar-Events-2.png
END:VEVENT
BEGIN:VEVENT
DTSTART;TZID=America/Denver:20240126T180000
DTEND;TZID=America/Denver:20240126T210000
DTSTAMP:20260423T175516
CREATED:20240103T172141Z
LAST-MODIFIED:20240118T063052Z
UID:215195-1706292000-1706302800@utbscs.org
SUMMARY:Spagetti Dinner
DESCRIPTION:Join us to kick off Catholic School’s Week with our annual Spaghetti Dinner and Bingo night. All friends and families are welcome! Adult tickets are $15 and child tickets are $10. Bingo cards will start at $5 with family packages available. Tickets will be available in the Buzz starting January 4th. Buy tickets here.
URL:https://utbscs.org/event/spagetti-dinner/
CATEGORIES:Extracurricular,HSA,School
ATTACH;FMTTYPE=image/jpeg:https://utbscs.org/wp-content/uploads/2022/12/1-1-scaled.jpg
END:VEVENT
BEGIN:VEVENT
DTSTART;TZID=America/Denver:20240106T093000
DTEND;TZID=America/Denver:20240106T130000
DTSTAMP:20260423T175516
CREATED:20240103T182641Z
LAST-MODIFIED:20240103T182641Z
UID:215200-1704533400-1704546000@utbscs.org
SUMMARY:Basketball Games
DESCRIPTION:4th Grade at 9am \n5th Grade at 12pm
URL:https://utbscs.org/event/basketball-games/
CATEGORIES:Extracurricular
ATTACH;FMTTYPE=image/jpeg:https://utbscs.org/wp-content/uploads/2024/01/Calendar-Events-1.jpg
END:VEVENT
BEGIN:VEVENT
DTSTART;VALUE=DATE:20240105
DTEND;VALUE=DATE:20240106
DTSTAMP:20260423T175516
CREATED:20240103T163325Z
LAST-MODIFIED:20240103T163325Z
UID:215185-1704412800-1704499199@utbscs.org
SUMMARY:EDP Early Closure
DESCRIPTION:Both the Extended Day Program and our school will close at 12:15pm for a staff holiday party.
URL:https://utbscs.org/event/edp-early-closure/
CATEGORIES:Extracurricular,School
ATTACH;FMTTYPE=image/png:https://utbscs.org/wp-content/uploads/2024/01/Calendar-Events.png
END:VEVENT
BEGIN:VEVENT
DTSTART;TZID=America/Denver:20231022T170000
DTEND;TZID=America/Denver:20231022T210000
DTSTAMP:20260423T175516
CREATED:20230825T180244Z
LAST-MODIFIED:20230825T180244Z
UID:214725-1697994000-1698008400@utbscs.org
SUMMARY:Parent's Night Out
DESCRIPTION:Join us at Pines and Ales in Draper. Tickets can be purchased September 18th until sold out.
URL:https://utbscs.org/event/parents-night-out/
CATEGORIES:Extracurricular,HSA
ATTACH;FMTTYPE=image/jpeg:https://utbscs.org/wp-content/uploads/2023/08/Calendar-Events.jpg
END:VEVENT
BEGIN:VEVENT
DTSTART;TZID=America/Denver:20230829T160000
DTEND;TZID=America/Denver:20230829T210000
DTSTAMP:20260423T175516
CREATED:20230825T152456Z
LAST-MODIFIED:20230825T152456Z
UID:214526-1693324800-1693342800@utbscs.org
SUMMARY:Zupas Fundraiser
DESCRIPTION:Join us at Zupas for our school spirit night. Help us earn up to 25% in donations with any purchase!
URL:https://utbscs.org/event/zupas-fundraiser/
CATEGORIES:Extracurricular,HSA
ATTACH;FMTTYPE=image/jpeg:https://utbscs.org/wp-content/uploads/2023/08/A3-3.jpg
END:VEVENT
END:VCALENDAR